BEGIN:VCALENDAR
VERSION:2.0
PRODID:-//ChamberMaster//Event Calendar 2.0//EN
METHOD:PUBLISH
X-PUBLISHED-TTL:P3D
REFRESH-INTERVAL:P3D
CALSCALE:GREGORIAN
BEGIN:VEVENT
DTSTART:20090823T180000Z
DTEND:20090823T200000Z
X-MICROSOFT-CDO-ALLDAYEVENT:FALSE
SUMMARY:Old West Trails Center Activity
DESCRIPTION:Featured Activity:Cornhusk Dolls
X-ALT-DESC;FMTTYPE=text/html:<div>Featured Activity:</div><div>Cornhusk Dolls</div>
LOCATION:301 Main StreetOdell\, NE 68415
UID:e.41.1303
SEQUENCE:3
DTSTAMP:20260426T011600Z
URL:https://business.beatricechamber.com/events/details/old-west-trails-center-activity-08-23-2009-1303
END:VEVENT

END:VCALENDAR
