BEGIN:VCALENDAR
VERSION:2.0
PRODID:-//ChamberMaster//Event Calendar 2.0//EN
METHOD:PUBLISH
X-PUBLISHED-TTL:P3D
REFRESH-INTERVAL:P3D
CALSCALE:GREGORIAN
BEGIN:VEVENT
DTSTART:20090927T180000Z
DTEND:20090927T200000Z
X-MICROSOFT-CDO-ALLDAYEVENT:FALSE
SUMMARY:Old West Trails Center Activity
DESCRIPTION:The Old West Trails Center in Odell is sponsoring a history emphasis Field Trip on Sunday afternoon September 27th.Points of interest will be various Old West Trail Markers\, Rock Creek State Historical Park\, Rock Island Depot Railroad Museum\, and the Steele City Historic District.For more information call Dave at 402-766-3790.
X-ALT-DESC;FMTTYPE=text/html:<div><p>The Old West Trails Center in Odell is sponsoring a history emphasis Field Trip on Sunday afternoon September 27th.</p><p>Points of interest will be various Old West Trail Markers\, Rock Creek State Historical Park\, Rock Island Depot Railroad Museum\, and the Steele City Historic District.</p><p>For more information call Dave at 402-766-3790.</p></div>
LOCATION:301 Main StreetOdell\, NE 68415
UID:e.41.1304
SEQUENCE:3
DTSTAMP:20260425T233738Z
URL:https://business.beatricechamber.com/events/details/old-west-trails-center-activity-09-27-2009-1304
END:VEVENT

END:VCALENDAR
