BEGIN:VCALENDAR
VERSION:2.0
PRODID:-//ChamberMaster//Event Calendar 2.0//EN
METHOD:PUBLISH
X-PUBLISHED-TTL:P3D
REFRESH-INTERVAL:P3D
CALSCALE:GREGORIAN
BEGIN:VEVENT
DTSTART:20091011T180000Z
DTEND:20091011T200000Z
X-MICROSOFT-CDO-ALLDAYEVENT:FALSE
SUMMARY:Old West Trails Center Activity
DESCRIPTION:Featured Activity:Stamping with Barbara
X-ALT-DESC;FMTTYPE=text/html:<div>Featured Activity:</div><div>Stamping with Barbara</div>
LOCATION:301 Main StreetOdell\, NE 68415
UID:e.41.1305
SEQUENCE:3
DTSTAMP:20260425T220745Z
URL:https://business.beatricechamber.com/events/details/old-west-trails-center-activity-10-11-2009-1305
END:VEVENT

END:VCALENDAR
