BEGIN:VCALENDAR
VERSION:2.0
PRODID:-//ChamberMaster//Event Calendar 2.0//EN
METHOD:PUBLISH
X-PUBLISHED-TTL:P3D
REFRESH-INTERVAL:P3D
CALSCALE:GREGORIAN
BEGIN:VEVENT
DTSTART:20091025T180000Z
DTEND:20091025T200000Z
X-MICROSOFT-CDO-ALLDAYEVENT:FALSE
SUMMARY:Old West Trails Center Activity
DESCRIPTION:Featured Activity:Card Party
X-ALT-DESC;FMTTYPE=text/html:<div>Featured Activity:</div><div>Card Party</div>
LOCATION:301 Main StreetOdell\, NE 68415
UID:e.41.1306
SEQUENCE:3
DTSTAMP:20260425T221217Z
URL:https://business.beatricechamber.com/events/details/old-west-trails-center-activity-10-25-2009-1306
END:VEVENT

END:VCALENDAR
