BEGIN:VCALENDAR
VERSION:2.0
PRODID:-//ChamberMaster//Event Calendar 2.0//EN
METHOD:PUBLISH
X-PUBLISHED-TTL:P3D
REFRESH-INTERVAL:P3D
CALSCALE:GREGORIAN
BEGIN:VEVENT
DTSTART:20091108T190000Z
DTEND:20091108T210000Z
X-MICROSOFT-CDO-ALLDAYEVENT:FALSE
SUMMARY:Old West Trails Center Activity
DESCRIPTION:Featured Activity:Book Review
X-ALT-DESC;FMTTYPE=text/html:<div>Featured Activity:</div><div>Book Review</div>
LOCATION:301 Main StreetOdell\, NE 68415
UID:e.41.1307
SEQUENCE:3
DTSTAMP:20260425T204655Z
URL:https://business.beatricechamber.com/events/details/old-west-trails-center-activity-11-08-2009-1307
END:VEVENT

END:VCALENDAR
