BEGIN:VCALENDAR
VERSION:2.0
PRODID:-//ChamberMaster//Event Calendar 2.0//EN
METHOD:PUBLISH
X-PUBLISHED-TTL:P3D
REFRESH-INTERVAL:P3D
CALSCALE:GREGORIAN
BEGIN:VEVENT
DTSTART:20090628T180000Z
DTEND:20090628T200000Z
X-MICROSOFT-CDO-ALLDAYEVENT:FALSE
SUMMARY:Old West Trails Center Concert/Grand Opening
DESCRIPTION:Ryan Broker\, guitarist/singer will be performingvarious musical variations including Irish songs.  Grand opening for "Good as New" new non-profit store just down the block. Refreshments at grand opening. Proceeds from purchases to to Odell Area Community Enrichment
X-ALT-DESC;FMTTYPE=text/html:<div>Ryan Broker\, guitarist/singer will be performing</div><div>various musical variations including Irish songs.&nbsp\;</div><div>&nbsp\;</div><div>Grand opening for &quot\;Good as New&quot\; new non-profit store just down the block.</div><div>&nbsp\;</div><div>Refreshments at grand opening.</div><div>&nbsp\;</div><div>Proceeds from purchases to to Odell Area Community Enrichment</div>
LOCATION:
UID:e.41.1259
SEQUENCE:3
DTSTAMP:20260426T043014Z
URL:https://business.beatricechamber.com/events/details/old-west-trails-center-concert-grand-opening-06-28-2009-1259
END:VEVENT

END:VCALENDAR
