BEGIN:VCALENDAR
VERSION:2.0
PRODID:-//ChamberMaster//Event Calendar 2.0//EN
METHOD:PUBLISH
X-PUBLISHED-TTL:P3D
REFRESH-INTERVAL:P3D
CALSCALE:GREGORIAN
BEGIN:VEVENT
DTSTART:20090726T180000Z
DTEND:20090726T200000Z
X-MICROSOFT-CDO-ALLDAYEVENT:FALSE
SUMMARY:Old West Trails Center Entertainment
DESCRIPTION:Featured Performances by:Judy  Baumann\, Chad & Rosanne Rinneplaying violin and keyboard
X-ALT-DESC;FMTTYPE=text/html:<div>Featured Performances by:</div><div>Judy&nbsp\; Baumann\, Chad &amp\; Rosanne Rinne</div><div>playing violin and keyboard</div>
LOCATION:301 Main StreetOdell\, NE 68415
UID:e.41.1301
SEQUENCE:3
DTSTAMP:20260426T030132Z
URL:https://business.beatricechamber.com/events/details/old-west-trails-center-entertainment-07-26-2009-1301
END:VEVENT

END:VCALENDAR
