BEGIN:VCALENDAR
VERSION:2.0
PRODID:-//ChamberMaster//Event Calendar 2.0//EN
METHOD:PUBLISH
X-PUBLISHED-TTL:P3D
REFRESH-INTERVAL:P3D
CALSCALE:GREGORIAN
BEGIN:VEVENT
DTSTART:20090809T180000Z
DTEND:20090809T200000Z
X-MICROSOFT-CDO-ALLDAYEVENT:FALSE
SUMMARY:Old West Trails Center Entertainment
DESCRIPTION:Featured Performances by:Pam\, Pat and MaryThe 3 Guitarists
X-ALT-DESC;FMTTYPE=text/html:<div>Featured Performances by:</div><div>Pam\, Pat and Mary</div><div>The 3 Guitarists</div>
LOCATION:301 Main StreetOdell\, NE 68415
UID:e.41.1302
SEQUENCE:3
DTSTAMP:20260426T011926Z
URL:https://business.beatricechamber.com/events/details/old-west-trails-center-entertainment-08-09-2009-1302
END:VEVENT

END:VCALENDAR
