BEGIN:VCALENDAR
VERSION:2.0
PRODID:-//ChamberMaster//Event Calendar 2.0//EN
METHOD:PUBLISH
X-PUBLISHED-TTL:P3D
REFRESH-INTERVAL:P3D
CALSCALE:GREGORIAN
BEGIN:VEVENT
DTSTART;VALUE=DATE:20090916
DTEND;VALUE=DATE:20090918
TRANSP:TRANSPARENT
X-MICROSOFT-CDO-ALLDAYEVENT:TRUE
SUMMARY:Omaha Products Show
DESCRIPTION:24th Biennial Products Show for Business and Industry Wednesday & Thursday\,September 16 - 11 am - 6 pmSeptember 17 - 10 am - 3 pmQwest Center Omaha10th & Capitol Avenue Beatrice manufacturers will be displaying at this showTickets are free and can be picked up at the Beatrice Chamber.Call 223-2338
X-ALT-DESC;FMTTYPE=text/html:<div>24th Biennial Products Show for Business and Industry</div><div>&nbsp\;</div><div>Wednesday &amp\; Thursday\,</div><div>September 16 - 11 am - 6 pm</div><div>September 17 - 10 am - 3 pm</div><div>Qwest Center Omaha</div><div>10th &amp\; Capitol Avenue</div><div>&nbsp\;</div><div>Beatrice manufacturers will be displaying at this show</div><div>Tickets are free and can be picked up at the Beatrice Chamber.</div><div>Call 223-2338</div>
LOCATION:
UID:e.41.1440
SEQUENCE:3
DTSTAMP:20260425T233340Z
URL:https://business.beatricechamber.com/events/details/omaha-products-show-09-16-2009-1440
END:VEVENT

END:VCALENDAR
