BEGIN:VCALENDAR
VERSION:2.0
PRODID:-//ChamberMaster//Event Calendar 2.0//EN
METHOD:PUBLISH
X-PUBLISHED-TTL:P3D
REFRESH-INTERVAL:P3D
CALSCALE:GREGORIAN
BEGIN:VEVENT
DTSTART:20101204T010000Z
DTEND:20101204T010000Z
X-MICROSOFT-CDO-ALLDAYEVENT:FALSE
SUMMARY:"OMG\, It's Another Play"
DESCRIPTION:"OMG\, It's Another Play"\n\n\n\nDecember 3 at 7:00 p.m.\n\n\n\nHevelone Center for Performing Arts
X-ALT-DESC;FMTTYPE=text/html:<strong>&quot\;OMG\, It&#39\;s Another Play&quot\;</strong><br />\n<br />\nDecember 3 at 7:00 p.m.<br />\n<br />\nHevelone Center for Performing Arts<br />\n
LOCATION:
UID:e.41.2877
SEQUENCE:3
DTSTAMP:20260425T014048Z
URL:https://business.beatricechamber.com/events/details/omg-it-s-another-play-12-03-2010-2877
END:VEVENT

END:VCALENDAR
