BEGIN:VCALENDAR
VERSION:2.0
PRODID:-//ChamberMaster//Event Calendar 2.0//EN
METHOD:PUBLISH
X-PUBLISHED-TTL:P3D
REFRESH-INTERVAL:P3D
CALSCALE:GREGORIAN
BEGIN:VEVENT
DTSTART;VALUE=DATE:20110426
DTEND;VALUE=DATE:20110427
TRANSP:TRANSPARENT
X-MICROSOFT-CDO-ALLDAYEVENT:TRUE
SUMMARY:One-Day Energy Conference
DESCRIPTION:Produce the Energy You Need at Home\n\n				One-day small scale energy conference \n\n				  \n\n				Tuesday\, April 26th\n\n				8:30 AM - 5:00 PM\n\n				Holiday Inn Express \n\n				4005 N 6th St.\n\n				$20 \n\n				(includes materials and lunch)\n\n				 \n\n				 \n\n				Technologies to be covered are wind\, solar\, methane\, geothermal\, bio-energy and flex-fuel infrastructure. Speakers will explain the steps necessary to turn ideas into projects\, including resource assessment\, permitting and certification\, and financing. \n\n				 \n\n				 Call the Gage County Extension office at 223-1384 for more information and to pre-register by April 20th. The registration form is available on the front page of the local Extension website\, gage.unl.edu.
X-ALT-DESC;FMTTYPE=text/html:<table align="center" border="0" cellpadding="0" cellspacing="0" style="width: 100%" width="100%">\n	<tbody>\n		<tr>\n			<td style="border-bottom: #000000\; border-left: #000000\; padding-bottom: 3.75pt\; padding-left: 3.75pt\; padding-right: 3.75pt\; border-top: #000000\; border-right: #000000\; padding-top: 3.75pt">\n				<span style="font-size: 14pt"><span style="color: #096079"><span style="font-family: arial\, sans-serif">Produce the Energy You Need at Home</span></span></span><br />\n				<strong><span style="font-size: 10pt"><span style="color: #17950a"><span style="font-family: arial\, sans-serif">One-day small scale energy conference </span></span></span></strong><br />\n				&nbsp\;&nbsp\;<br />\n				<strong><span style="font-size: 10pt"><span style="color: #096079"><span style="font-family: arial\, sans-serif">Tuesday\, April 26th</span></span></span></strong><br />\n				<strong><span style="font-size: 10pt"><span style="color: #096079"><span style="font-family: arial\, sans-serif">8:30 AM&nbsp\;-&nbsp\;5:00 PM</span></span></span></strong><br />\n				<strong><span style="font-size: 10pt"><span style="color: #096079"><span style="font-family: arial\, sans-serif">Holiday Inn Express</span></span></span></strong>&nbsp\;<br />\n				<strong><span style="font-size: 10pt"><span style="color: #096079"><span style="font-family: arial\, sans-serif">4005 N 6th St.</span></span></span></strong><br />\n				<strong><span style="color: #096079"><span style="font-family: arial\, sans-serif">$20 </span></span></strong><br />\n				<strong><span style="font-size: 10pt"><span style="color: #096079"><span style="font-family: arial\, sans-serif">(includes materials and lunch)</span></span></span></strong><br />\n				&nbsp\;<br />\n				&nbsp\;<br />\n				<span style="font-size: 8pt"><span style="color: #096079"><span style="font-family: arial\, sans-serif">Technologies to be covered are wind\, solar\, methane\, geothermal\, bio-energy and flex-fuel infrastructure. Speakers will explain the steps necessary to turn ideas into projects\, including resource assessment\, permitting and certification\, and financing. </span></span></span><br />\n				&nbsp\;<br />\n				<span style="font-size: 8pt"><span style="color: #096079"><span style="font-family: arial\, sans-serif">&nbsp\;Call the Gage County Extension office at 223-1384 for more information and to pre-register by April 20<sup>th</sup>.&nbsp\;The registration form is available on the front page of the local Extension website\, <a href="http://r20.rs6.net/tn.jsp?llr=y9l6kddab&amp\;t=47gsmefab.0.xxsrmdfab.y9l6kddab.645&amp\;ts=S0607&amp\;p=http%3A%2F%2Fwww.gage.unl.edu" linktype="link" shape="rect" target="_blank" track="on">gage.unl.edu</a>.&nbsp\;&nbsp\;&nbsp\;</span></span></span></td>\n		</tr>\n	</tbody>\n</table>
LOCATION:
UID:e.41.4568
SEQUENCE:3
DTSTAMP:20260424T195045Z
URL:https://business.beatricechamber.com/events/details/one-day-energy-conference-04-26-2011-4568
END:VEVENT

END:VCALENDAR
