BEGIN:VCALENDAR
VERSION:2.0
PRODID:-//ChamberMaster//Event Calendar 2.0//EN
METHOD:PUBLISH
X-PUBLISHED-TTL:P3D
REFRESH-INTERVAL:P3D
CALSCALE:GREGORIAN
BEGIN:VEVENT
DTSTART;VALUE=DATE:20100201
DTEND;VALUE=DATE:20100202
TRANSP:TRANSPARENT
X-MICROSOFT-CDO-ALLDAYEVENT:TRUE
SUMMARY:ONE DAY SALE
DESCRIPTION:Catch the ONE DAY SALE at Jazzercise on Monday\, February 1st and get 10 months of Jazzercise for only $20 a month with joining fee.  That is right -- Ten for Twenty!  Don"t miss out!  Bring a friend and share the savings!  \n\n\n\nValid only on February 1st for customers who have not attended Jazzercise in the last 6 months.  Regular monthly EFT price applies after 10 months.
X-ALT-DESC;FMTTYPE=text/html:Catch the ONE DAY SALE at Jazzercise on Monday\, February 1st and get 10 months of Jazzercise for only $20 a month with joining fee.  That is right -- Ten for Twenty!  Don"t miss out!  Bring a friend and share the savings!  \n<br>\n<br>Valid only on February 1st for customers who have not attended Jazzercise in the last 6 months.  Regular monthly EFT price applies after 10 months.
LOCATION:Beatrice Jazzercise Fittness Center 111 S 9th
UID:e.41.1580
SEQUENCE:3
DTSTAMP:20260425T165254Z
URL:https://business.beatricechamber.com/events/details/one-day-sale-02-01-2010-1580
END:VEVENT

END:VCALENDAR
