BEGIN:VCALENDAR
VERSION:2.0
PRODID:-//ChamberMaster//Event Calendar 2.0//EN
METHOD:PUBLISH
X-PUBLISHED-TTL:P3D
REFRESH-INTERVAL:P3D
CALSCALE:GREGORIAN
BEGIN:VEVENT
DTSTART:20111022T140000Z
DTEND:20111022T200000Z
X-MICROSOFT-CDO-ALLDAYEVENT:FALSE
SUMMARY:One-Stop Holiday Shop Fundraiser
DESCRIPTION:One-Stop Holiday Shop Fundraiser:\n\n\n\nSaturday\, October 22\n\n9 am - 3 pm\n\n\n\nBeatrice Senior Center\, 101 N 25th\n\n\n\nHosted by Koch Family & Friends Relay for Life Team\n\n\n\nBake sale proceeds to 2012 American Cancer Society Relay for Life in Gage County.  Vendors will be selling products\, with a portion of those proceeds benefiting the Relay.
X-ALT-DESC;FMTTYPE=text/html:One-Stop Holiday Shop Fundraiser:<br />\n<br />\nSaturday\, October 22<br />\n9 am - 3 pm<br />\n<br />\nBeatrice Senior Center\, 101 N 25th<br />\n<br />\nHosted by Koch Family &amp\; Friends Relay for Life Team<br />\n<br />\nBake sale proceeds to 2012 American Cancer Society Relay for Life in Gage County.&nbsp\; Vendors will be selling products\, with a portion of those proceeds benefiting the Relay.
LOCATION:
UID:e.41.5198
SEQUENCE:3
DTSTAMP:20260424T111423Z
URL:https://business.beatricechamber.com/events/details/one-stop-holiday-shop-fundraiser-10-22-2011-5198
END:VEVENT

END:VCALENDAR
