BEGIN:VCALENDAR
VERSION:2.0
PRODID:-//ChamberMaster//Event Calendar 2.0//EN
METHOD:PUBLISH
X-PUBLISHED-TTL:P3D
REFRESH-INTERVAL:P3D
CALSCALE:GREGORIAN
BEGIN:VEVENT
DTSTART:20101202T150000Z
DTEND:20101205T010000Z
X-MICROSOFT-CDO-ALLDAYEVENT:FALSE
SUMMARY:Open House
DESCRIPTION:Carole's Open House:\n\n\n\nAnnual Holiday Open House\n\n\n\nHoliday Decorating & Gift Items\n\n\n\nThursday\, Friday & Saturday\, Dec. 2nd-4th\n\n9am-7pm\n\n\n\n1034 N. 6th\n\n(enter through garage)\n\nBeatrice\n\n228-2773
X-ALT-DESC;FMTTYPE=text/html:<strong><span style="font-size: 14px\;">Carole&#39\;s Open House:</span></strong><br />\n<br />\nAnnual Holiday Open House<br />\n<br />\nHoliday Decorating &amp\; Gift Items<br />\n<br />\nThursday\, Friday &amp\; Saturday\, Dec. 2nd-4th<br />\n9am-7pm<br />\n<br />\n1034 N. 6th<br />\n(enter through garage)<br />\nBeatrice<br />\n228-2773<br />\n
LOCATION:
UID:e.41.2873
SEQUENCE:3
DTSTAMP:20260425T013953Z
URL:https://business.beatricechamber.com/events/details/open-house-12-02-2010-2873
END:VEVENT

END:VCALENDAR
