BEGIN:VCALENDAR
VERSION:2.0
PRODID:-//ChamberMaster//Event Calendar 2.0//EN
METHOD:PUBLISH
X-PUBLISHED-TTL:P3D
REFRESH-INTERVAL:P3D
CALSCALE:GREGORIAN
BEGIN:VEVENT
DTSTART;VALUE=DATE:20101119
DTEND;VALUE=DATE:20101122
TRANSP:TRANSPARENT
X-MICROSOFT-CDO-ALLDAYEVENT:TRUE
SUMMARY:Open House- Antiques Paradise
DESCRIPTION:Open House:\n\n\n\nAntiques Paradise Open House will be held from Friday Nov. 19th through Sunday Nov. 21\n\n\n\nTHERE WILL BE REFRESHMENTS AND DRAWINGS FOR PRIZES\n\n\n\nShop now for Christmas decor\n\nAntiques & Collectibles make good gifts!\n\n\n\nAntiques Paradise is located at 827 W. Court\, Beatrice\n\n(402) 223-0121
X-ALT-DESC;FMTTYPE=text/html:<strong><span style="font-size: 14px">Open House:</span></strong><br />\n<br />\nAntiques Paradise Open House will be held from Friday Nov. 19th through Sunday Nov. 21<br />\n<br />\nTHERE WILL BE REFRESHMENTS AND DRAWINGS FOR PRIZES<br />\n<br />\nShop now for Christmas decor<br />\nAntiques &amp\; Collectibles make good gifts!<br />\n<br />\nAntiques Paradise is located at 827 W. Court\, Beatrice<br />\n(402) 223-0121
LOCATION:
UID:e.41.2838
SEQUENCE:3
DTSTAMP:20260425T032638Z
URL:https://business.beatricechamber.com/events/details/open-house-antiques-paradise-11-19-2010-2838
END:VEVENT

END:VCALENDAR
