BEGIN:VCALENDAR
VERSION:2.0
PRODID:-//ChamberMaster//Event Calendar 2.0//EN
METHOD:PUBLISH
X-PUBLISHED-TTL:P3D
REFRESH-INTERVAL:P3D
CALSCALE:GREGORIAN
BEGIN:VEVENT
DTSTART:20111109T150000Z
DTEND:20111109T220000Z
X-MICROSOFT-CDO-ALLDAYEVENT:FALSE
SUMMARY:Open House at BCH Gift Shop
DESCRIPTION:BCH Gift Shop's 11th Annual Holiday Open House\n\n\n\nWednesday\, November 9\n\n9 am - 4 pm\n\n\n\nHave a cup of hot cider & browse as long as you would like!  It will be a great day!\n\n\n\nGift Shop located next to the cafeteria\n\nBeatrice Community Hospital\n\n1110 N 10th Street\n\nBeatrice\, NE \n\n\n\n402-223-3344
X-ALT-DESC;FMTTYPE=text/html:BCH Gift Shop&#39\;s 11th Annual Holiday Open House<br />\n<br />\nWednesday\, November 9<br />\n9 am - 4 pm<br />\n<br />\nHave a cup of hot cider &amp\; browse as long as you would like!&nbsp\; It will be a great day!<br />\n<br />\nGift Shop located next to the cafeteria<br />\nBeatrice Community Hospital<br />\n1110 N 10th Street<br />\nBeatrice\, NE&nbsp\;<br />\n<br />\n402-223-3344
LOCATION:
UID:e.41.5237
SEQUENCE:3
DTSTAMP:20260424T100003Z
URL:https://business.beatricechamber.com/events/details/open-house-at-bch-gift-shop-11-09-2011-5237
END:VEVENT

END:VCALENDAR
