BEGIN:VCALENDAR
VERSION:2.0
PRODID:-//ChamberMaster//Event Calendar 2.0//EN
METHOD:PUBLISH
X-PUBLISHED-TTL:P3D
REFRESH-INTERVAL:P3D
CALSCALE:GREGORIAN
BEGIN:VEVENT
DTSTART;VALUE=DATE:20110415
DTEND;VALUE=DATE:20110418
TRANSP:TRANSPARENT
X-MICROSOFT-CDO-ALLDAYEVENT:TRUE
SUMMARY:Open House at Beatrice Greenhouse
DESCRIPTION:Beatrice Greenhouse\n\nOPEN HOUSe\n\n\n\nApril 15\, 16\, 17\n\nFri. & Sat. 9-7\, Sun 1-5\n\n\n\nFriday 4-6 pm: LIVE Remote - KWBE\n\nLIVE DEMO of Traegor Pellet Grill by HeatSource1\n\n\n\nFree Hot Dogs & Drinks\n\nFriday 4-6 & Sat 11-1\n\n\n\n1 Free Gallon of Liquid Fertilizer with purchase (bring your own container.)\n\nRegister for drawing each day\n\nBulk garden seed\n\nHanging baskets for Mother's Day\n\n\n\nBeatrice Greenhouse\n\n1109 N 5th\, 1 Blk West of Runza\n\n\n\n402-223-3338
X-ALT-DESC;FMTTYPE=text/html:Beatrice Greenhouse<br />\nOPEN HOUSe<br />\n<br />\nApril 15\, 16\, 17<br />\nFri. &amp\; Sat. 9-7\, Sun 1-5<br />\n<br />\nFriday 4-6 pm: LIVE Remote - KWBE<br />\nLIVE DEMO of Traegor Pellet Grill by HeatSource1<br />\n<br />\nFree Hot Dogs &amp\; Drinks<br />\nFriday 4-6 &amp\; Sat 11-1<br />\n<br />\n1 Free Gallon of Liquid Fertilizer with purchase (bring your own container.)<br />\nRegister for drawing each day<br />\nBulk garden seed<br />\nHanging baskets for Mother&#39\;s Day<br />\n<br />\nBeatrice Greenhouse<br />\n1109 N 5th\, 1 Blk West of Runza<br />\n<br />\n402-223-3338
LOCATION:
UID:e.41.4585
SEQUENCE:3
DTSTAMP:20260424T200114Z
URL:https://business.beatricechamber.com/events/details/open-house-at-beatrice-greenhouse-04-15-2011-4585
END:VEVENT

END:VCALENDAR
