BEGIN:VCALENDAR
VERSION:2.0
PRODID:-//ChamberMaster//Event Calendar 2.0//EN
METHOD:PUBLISH
X-PUBLISHED-TTL:P3D
REFRESH-INTERVAL:P3D
CALSCALE:GREGORIAN
BEGIN:VEVENT
DTSTART;VALUE=DATE:20110426
DTEND;VALUE=DATE:20110427
TRANSP:TRANSPARENT
X-MICROSOFT-CDO-ALLDAYEVENT:TRUE
SUMMARY:Open House at Historic Beatrice Home
DESCRIPTION:Open House at the home of Jerry and Carolyn Pugsley\, the recipients of this years preservation award for 2011.\n\n	\n\n	Tuesday\, April 26\n\n	7:30 pm\n\n	\n\n	1908 S Fourth Ave\n\n	Beatrice\n\n	\n\n	The Pugsley's home was designed by the same architect who worked on the governor's mansion\, Selmer Solheim. \n\n	\n\n	Anyone is welcome to attend the open house and tour the 3\,500 square foot home.
X-ALT-DESC;FMTTYPE=text/html:<p>\n	Open House at the home of Jerry and Carolyn Pugsley\, the recipients of this years preservation award for 2011.<br />\n	<br />\n	Tuesday\, April 26<br />\n	7:30 pm<br />\n	<br />\n	1908 S Fourth Ave<br />\n	Beatrice<br />\n	<br />\n	The Pugsley&#39\;s home was designed by the same architect who worked on the governor&#39\;s mansion\, Selmer Solheim.&nbsp\;<br />\n	<br />\n	Anyone is welcome to attend the open house and tour the 3\,500 square foot home.</p>\n
LOCATION:
UID:e.41.4601
SEQUENCE:3
DTSTAMP:20260424T195840Z
URL:https://business.beatricechamber.com/events/details/open-house-at-historic-beatrice-home-04-26-2011-4601
END:VEVENT

END:VCALENDAR
