BEGIN:VCALENDAR
VERSION:2.0
PRODID:-//ChamberMaster//Event Calendar 2.0//EN
METHOD:PUBLISH
X-PUBLISHED-TTL:P3D
REFRESH-INTERVAL:P3D
CALSCALE:GREGORIAN
BEGIN:VEVENT
DTSTART:20090618T230000Z
DTEND:20090619T020000Z
X-MICROSOFT-CDO-ALLDAYEVENT:FALSE
SUMMARY:Open House - Beatrice Martial Arts
DESCRIPTION:Open HouseThursday\, June 18th6-9pm Door Prizes\, Refreshemnts\, Drawing for FREE 10 week Trial special See demonstrations Thursday evening June 18\, downtown andSaturday\, June 20 at Chautauqua Park at 5:30
X-ALT-DESC;FMTTYPE=text/html:<div>Open House</div><div>Thursday\, June 18th</div><div>6-9pm</div><div>&nbsp\;</div><div>Door Prizes\, Refreshemnts\, Drawing for FREE 10 week Trial special</div><div>&nbsp\;</div><div>See demonstrations Thursday evening June 18\, downtown and</div><div>Saturday\, June&nbsp\;20&nbsp\;at Chautauqua Park at 5:30</div>
LOCATION:
UID:e.41.1246
SEQUENCE:3
DTSTAMP:20260426T042901Z
URL:https://business.beatricechamber.com/events/details/open-house-beatrice-martial-arts-06-18-2009-1246
END:VEVENT

END:VCALENDAR
