BEGIN:VCALENDAR
VERSION:2.0
PRODID:-//ChamberMaster//Event Calendar 2.0//EN
METHOD:PUBLISH
X-PUBLISHED-TTL:P3D
REFRESH-INTERVAL:P3D
CALSCALE:GREGORIAN
BEGIN:VEVENT
DTSTART:20101229T233000Z
DTEND:20101230T020000Z
X-MICROSOFT-CDO-ALLDAYEVENT:FALSE
SUMMARY:Open House @ Ideal U
DESCRIPTION:Ideal U\n\nOpen House\n\n\n\nWednesday\, December 29\n\n5:30 - 8:00 p.m.\n\n\n\nGet Ready for the New Year - Taste Samples\, Information Available\, Questions Answered\n\n\n\nIdeal U\n\n516 Court Street\, Lower Level
X-ALT-DESC;FMTTYPE=text/html:Ideal U<br />\nOpen House<br />\n<br />\nWednesday\, December 29<br />\n5:30 - 8:00 p.m.<br />\n<br />\nGet Ready for the New Year - Taste Samples\, Information Available\, Questions Answered<br />\n<br />\nIdeal U<br />\n516 Court Street\, Lower Level
LOCATION:
UID:e.41.2936
SEQUENCE:3
DTSTAMP:20260425T014110Z
URL:https://business.beatricechamber.com/events/details/open-house-ideal-u-12-29-2010-2936
END:VEVENT

END:VCALENDAR
