BEGIN:VCALENDAR
VERSION:2.0
PRODID:-//ChamberMaster//Event Calendar 2.0//EN
METHOD:PUBLISH
X-PUBLISHED-TTL:P3D
REFRESH-INTERVAL:P3D
CALSCALE:GREGORIAN
BEGIN:VEVENT
DTSTART:20091124T190000Z
DTEND:20091125T220000Z
X-MICROSOFT-CDO-ALLDAYEVENT:FALSE
SUMMARY:Open House - Insure Nebraska
DESCRIPTION:Customer Appreciation Open HouseJoin Harriet & Linda atInsure Nebraska Tuesday and WednesdayNovember 24 & 251:00 - 4:00 pm Coffee & Refreshments ServedFree Gifts Stop by at 301 S 6th #5South 6th Street mini Mall
X-ALT-DESC;FMTTYPE=text/html:<div>Customer Appreciation Open House</div><div>Join Harriet &amp\; Linda at</div><div>Insure Nebraska</div><div>&nbsp\;</div><div>Tuesday and Wednesday</div><div>November 24 &amp\; 25</div><div>1:00&nbsp\;- 4:00 pm</div><div>&nbsp\;</div><div>Coffee &amp\; Refreshments&nbsp\;Served</div><div>Free Gifts</div><div>&nbsp\;</div><div>Stop by at 301 S 6th #5</div><div>South 6th Street mini Mall</div>
LOCATION:
UID:e.41.1543
SEQUENCE:3
DTSTAMP:20260425T204935Z
URL:https://business.beatricechamber.com/events/details/open-house-insure-nebraska-11-24-2009-1543
END:VEVENT

END:VCALENDAR
