BEGIN:VCALENDAR
VERSION:2.0
PRODID:-//ChamberMaster//Event Calendar 2.0//EN
METHOD:PUBLISH
X-PUBLISHED-TTL:P3D
REFRESH-INTERVAL:P3D
CALSCALE:GREGORIAN
BEGIN:VEVENT
DTSTART:20110528T170000Z
DTEND:20110528T200000Z
X-MICROSOFT-CDO-ALLDAYEVENT:FALSE
SUMMARY:Open House & Tour Rice Conference Lodge
DESCRIPTION:Open House & Tour of the newly rennovated\n\nRice Lodge & Conference Center\n\n\n\nSaturday\, May 28\n\n12 - 3 pm\n\n\n\nMain Street\, Odell\, NE\n\n\n\nFor more information\, contact State Bank of Odell
X-ALT-DESC;FMTTYPE=text/html:Open House &amp\; Tour of the newly rennovated<br />\nRice Lodge &amp\; Conference Center<br />\n<br />\nSaturday\, May 28<br />\n12 - 3 pm<br />\n<br />\nMain Street\, Odell\, NE<br />\n<br />\nFor more information\, contact State Bank of Odell
LOCATION:
UID:e.41.4213
SEQUENCE:3
DTSTAMP:20260424T183838Z
URL:https://business.beatricechamber.com/events/details/open-house-tour-rice-conference-lodge-05-28-2011-4213
END:VEVENT

END:VCALENDAR
