BEGIN:VCALENDAR
VERSION:2.0
PRODID:-//ChamberMaster//Event Calendar 2.0//EN
METHOD:PUBLISH
X-PUBLISHED-TTL:P3D
REFRESH-INTERVAL:P3D
CALSCALE:GREGORIAN
BEGIN:VEVENT
DTSTART;VALUE=DATE:20120428
DTEND;VALUE=DATE:20120429
TRANSP:TRANSPARENT
X-MICROSOFT-CDO-ALLDAYEVENT:TRUE
SUMMARY:Opening of Quilt Discovery Experience
DESCRIPTION:Follow the trail of quilt blocks around the monument to learn more about quilt making and the history of quilts and how they truly are documents of history\, reflecting who we were as a nation and a people.
X-ALT-DESC;FMTTYPE=text/html:Follow the trail of quilt blocks around the monument to learn more about quilt making and the history of quilts and how they truly are documents of history\, reflecting who we were as a nation and a people.
LOCATION:Homestead National Monument of America
UID:e.41.5350
SEQUENCE:3
DTSTAMP:20260422T154958Z
URL:https://business.beatricechamber.com/events/details/opening-of-quilt-discovery-experience-04-28-2012-5350
END:VEVENT

END:VCALENDAR
