BEGIN:VCALENDAR
VERSION:2.0
PRODID:-//ChamberMaster//Event Calendar 2.0//EN
METHOD:PUBLISH
X-PUBLISHED-TTL:P3D
REFRESH-INTERVAL:P3D
CALSCALE:GREGORIAN
BEGIN:VEVENT
DTSTART;VALUE=DATE:20091229
DTEND;VALUE=DATE:20091230
TRANSP:TRANSPARENT
X-MICROSOFT-CDO-ALLDAYEVENT:TRUE
SUMMARY:Opera 101
DESCRIPTION:Opera 101 - an Introduction to the magical world of OperaFeaturing an evening of Arias & Song byChristi McLain-White\, SopranoKevin Boesiger\, Piano Tuesday\, December 29\, 20097:00 pmBeatrice Community Players TheaterFree will donation at the door
X-ALT-DESC;FMTTYPE=text/html:<div>Opera 101 - an Introduction to the magical world of Opera</div><div>Featuring an evening of Arias &amp\; Song by</div><div>Christi McLain-White\, Soprano</div><div>Kevin Boesiger\, Piano</div><div>&nbsp\;</div><div>Tuesday\, December 29\, 2009</div><div>7:00 pm</div><div>Beatrice Community Players Theater</div><div>Free will donation at the door</div>
LOCATION:
UID:e.41.1556
SEQUENCE:3
DTSTAMP:20260425T193259Z
URL:https://business.beatricechamber.com/events/details/opera-101-12-29-2009-1556
END:VEVENT

END:VCALENDAR
