BEGIN:VCALENDAR
VERSION:2.0
PRODID:-//ChamberMaster//Event Calendar 2.0//EN
METHOD:PUBLISH
X-PUBLISHED-TTL:P3D
REFRESH-INTERVAL:P3D
CALSCALE:GREGORIAN
BEGIN:VEVENT
DTSTART;VALUE=DATE:20120505
DTEND;VALUE=DATE:20120506
TRANSP:TRANSPARENT
X-MICROSOFT-CDO-ALLDAYEVENT:TRUE
SUMMARY:Orange & Black Banquet May 5
DESCRIPTION:The annual Beatrice High School Orange & Black Banquet will be held Saturday\, May 5.\n\nThe 6 p.m. meal\, catered by Back Alley Eatery\, will be followed by the awards banquet and coronation.\n\nThe theme for the banquet\, which is sponsored by the Beatrice Orange Boosters\, is "Building our Future\, One Brick at at Time."\n\nTickets for the banquet are available for $9 and may be purchased as the high school office through Tuesday\, May 1.
X-ALT-DESC;FMTTYPE=text/html:The annual&nbsp\;Beatrice&nbsp\;High School&nbsp\;Orange &amp\;&nbsp\;Black Banquet will be held Saturday\, May 5.<br />\nThe 6 p.m. meal\, catered by Back Alley Eatery\, will be followed by the awards banquet and&nbsp\;coronation.<br />\nThe theme&nbsp\;for the banquet\,&nbsp\;which is sponsored by the Beatrice&nbsp\;Orange Boosters\, is &quot\;Building&nbsp\;our Future\,&nbsp\;One Brick at at Time.&quot\;<br />\nTickets for the&nbsp\;banquet are available&nbsp\;for $9 and may be&nbsp\;purchased as the high school office through Tuesday\, May 1.
LOCATION:
UID:e.41.5496
SEQUENCE:3
DTSTAMP:20260422T142434Z
URL:https://business.beatricechamber.com/events/details/orange-black-banquet-may-5-05-05-2012-5496
END:VEVENT

END:VCALENDAR
