BEGIN:VCALENDAR
VERSION:2.0
PRODID:-//ChamberMaster//Event Calendar 2.0//EN
METHOD:PUBLISH
X-PUBLISHED-TTL:P3D
REFRESH-INTERVAL:P3D
CALSCALE:GREGORIAN
BEGIN:VEVENT
DTSTART:20091208T010000Z
DTEND:20091208T020000Z
X-MICROSOFT-CDO-ALLDAYEVENT:FALSE
SUMMARY:Orange Booster club Meeting
DESCRIPTION:Meeting Monday\, 7:00 pmBHS Media Center All sports representatives\, parents\, coaches and fans are encouraged to attend.
X-ALT-DESC;FMTTYPE=text/html:<div>Meeting Monday\, 7:00 pm</div><div>BHS Media Center</div><div>&nbsp\;</div><div>All sports representatives\, parents\, coaches and fans are encouraged to attend.</div>
LOCATION:
UID:e.41.1550
SEQUENCE:3
DTSTAMP:20260425T194503Z
URL:https://business.beatricechamber.com/events/details/orange-booster-club-meeting-12-07-2009-1550
END:VEVENT

END:VCALENDAR
