BEGIN:VCALENDAR
VERSION:2.0
PRODID:-//ChamberMaster//Event Calendar 2.0//EN
METHOD:PUBLISH
X-PUBLISHED-TTL:P3D
REFRESH-INTERVAL:P3D
CALSCALE:GREGORIAN
BEGIN:VEVENT
DTSTART:20090821T213000Z
DTEND:20090822T000000Z
X-MICROSOFT-CDO-ALLDAYEVENT:FALSE
SUMMARY:Orange Boosters Fall Kickoff
DESCRIPTION:Beatrice Orange Booster Club hosts its annual Fall Barbecue KickoffFriday\, August 21 at Beatrice High School A meal\, which includes half chicken\, baked potato\, baked beans\, roll/butter\, treat and drink.Serving begins at 4:30 pm Cost for meal - $7.50 per plate
X-ALT-DESC;FMTTYPE=text/html:<div>Beatrice Orange Booster Club hosts its annual Fall Barbecue Kickoff</div><div>Friday\, August 21 at Beatrice High School</div><div>&nbsp\;</div><div>A meal\, which includes half chicken\, baked potato\, baked beans\, roll/butter\, treat and drink.</div><div>Serving begins at 4:30 pm</div><div>&nbsp\;</div><div>Cost for meal - $7.50 per plate</div>
LOCATION:
UID:e.41.1387
SEQUENCE:3
DTSTAMP:20260426T011550Z
URL:https://business.beatricechamber.com/events/details/orange-boosters-fall-kickoff-08-21-2009-1387
END:VEVENT

END:VCALENDAR
