BEGIN:VCALENDAR
VERSION:2.0
PRODID:-//ChamberMaster//Event Calendar 2.0//EN
METHOD:PUBLISH
X-PUBLISHED-TTL:P3D
REFRESH-INTERVAL:P3D
CALSCALE:GREGORIAN
BEGIN:VEVENT
DTSTART;VALUE=DATE:20100314
DTEND;VALUE=DATE:20100315
TRANSP:TRANSPARENT
X-MICROSOFT-CDO-ALLDAYEVENT:TRUE
SUMMARY:Orchestra Concert
DESCRIPTION:Beatrice Regional Orchestra Concert3 p.m.Hevelone Center for Performing ArtsBeatrice High School600 Orange Blvd. Theme: "Music That Tells a Story."Includes the symphonic suite composed by conductor Connie Moon of Beatrice Special invitation for veterans to attend. Tickets: $5 adults\; $3 senior citizens\; $2 children ages 12&under\; available at the door. Concert has received a grant from the Hevelone Foundation.
X-ALT-DESC;FMTTYPE=text/html:<div>Beatrice Regional Orchestra Concert</div><div>3 p.m.</div><div>Hevelone Center for Performing Arts</div><div>Beatrice High School</div><div>600 Orange Blvd.</div><div>&nbsp\;</div><div>Theme: &quot\;Music That Tells a Story.&quot\;</div><div>Includes the symphonic suite composed by conductor Connie Moon of Beatrice</div><div>&nbsp\;</div><div>Special invitation for veterans to attend.</div><div>&nbsp\;</div><div>Tickets: $5 adults\; $3 senior citizens\; $2 children ages 12&amp\;under\; available at the door.</div><div>&nbsp\;</div><div>Concert has received a grant from the Hevelone Foundation.</div>
LOCATION:
UID:e.41.1674
SEQUENCE:3
DTSTAMP:20260425T152942Z
URL:https://business.beatricechamber.com/events/details/orchestra-concert-03-14-2010-1674
END:VEVENT

END:VCALENDAR
