BEGIN:VCALENDAR
VERSION:2.0
PRODID:-//ChamberMaster//Event Calendar 2.0//EN
METHOD:PUBLISH
X-PUBLISHED-TTL:P3D
REFRESH-INTERVAL:P3D
CALSCALE:GREGORIAN
BEGIN:VEVENT
DTSTART;VALUE=DATE:20100518
DTEND;VALUE=DATE:20100519
TRANSP:TRANSPARENT
X-MICROSOFT-CDO-ALLDAYEVENT:TRUE
SUMMARY:Orchestra Showcase 5/18/10
DESCRIPTION:Orchestra ShowcaseBeatrice Public Schools Tuesday\, May 187 p.m.Hevelone Center @ Beatrice High School Showcase features orchestra solos and ensembles of students grades 5 - 12.  A reception will be held after the concert.
X-ALT-DESC;FMTTYPE=text/html:<div style="text-align: center"><span style="font-size: medium">Orchestra Showcase</span></div><div style="text-align: center"><span style="font-size: medium">Beatrice Public Schools</span></div><div style="text-align: center">&nbsp\;</div><div style="text-align: center"><span style="font-size: medium">Tuesday\, May 18</span></div><div style="text-align: center"><span style="font-size: medium">7 p.m.</span></div><div style="text-align: center"><span style="font-size: medium">Hevelone Center @ Beatrice High School</span></div><div style="text-align: center">&nbsp\;</div><div style="text-align: center"><span style="font-size: medium">Showcase features orchestra solos and ensembles of students grades 5 - 12.&nbsp\; A reception will be held after the concert.</span></div>
LOCATION:
UID:e.41.1990
SEQUENCE:3
DTSTAMP:20260425T122505Z
URL:https://business.beatricechamber.com/events/details/orchestra-showcase-5-18-10-05-18-2010-1990
END:VEVENT

END:VCALENDAR
