BEGIN:VCALENDAR
VERSION:2.0
PRODID:-//ChamberMaster//Event Calendar 2.0//EN
METHOD:PUBLISH
X-PUBLISHED-TTL:P3D
REFRESH-INTERVAL:P3D
CALSCALE:GREGORIAN
BEGIN:VEVENT
DTSTART;VALUE=DATE:20100307
DTEND;VALUE=DATE:20100308
TRANSP:TRANSPARENT
X-MICROSOFT-CDO-ALLDAYEVENT:TRUE
SUMMARY:Orphan Train Rider to Visit Homestead
DESCRIPTION:Orphan Train Rider\,Lela Newcombe\, and historian Charlotte Endorfto visit Homestead National Monument of America Sunday\, March 72 p.m.Education Center  Books will be available for purchase.  A book signing will follow the program.
X-ALT-DESC;FMTTYPE=text/html:<div style="text-align: center"><span style="font-size: small">Orphan Train Rider\,Lela Newcombe\, and historian Charlotte Endorf</span></div><div style="text-align: center"><span style="font-size: small">to visit Homestead National Monument of America</span></div><div style="text-align: center">&nbsp\;</div><div style="text-align: center"><span style="font-size: small">Sunday\, March 7</span></div><div style="text-align: center"><span style="font-size: small">2 p.m.</span></div><div style="text-align: center"><span style="font-size: small">Education Center</span></div><div style="text-align: center">&nbsp\;</div><div>&nbsp\;</div><div>Books will be available for purchase.&nbsp\; A book signing will follow the program.</div><div>&nbsp\;</div><div>&nbsp\;</div>
LOCATION:
UID:e.41.1665
SEQUENCE:3
DTSTAMP:20260425T153501Z
URL:https://business.beatricechamber.com/events/details/orphan-train-rider-to-visit-homestead-03-07-2010-1665
END:VEVENT

END:VCALENDAR
