BEGIN:VCALENDAR
VERSION:2.0
PRODID:-//ChamberMaster//Event Calendar 2.0//EN
METHOD:PUBLISH
X-PUBLISHED-TTL:P3D
REFRESH-INTERVAL:P3D
CALSCALE:GREGORIAN
BEGIN:VEVENT
DTSTART;VALUE=DATE:20101107
DTEND;VALUE=DATE:20101108
TRANSP:TRANSPARENT
X-MICROSOFT-CDO-ALLDAYEVENT:TRUE
SUMMARY:Our Savior's Annual Fall Dinner
DESCRIPTION:Our Savior's Annual Fall Dinner in Wymore:\n\n\n\nBeing held Sunday from 11:30 a.m.-1:30 p.m. at the church\, 11th  and l streets in Wymore.\n\n\n\nThe meal includes chicken fried seak\, ham steak\, baked potato\, salad bar\, rolls and homeade desserts.\n\n\n\nCost is $7 for adults and $4 for children
X-ALT-DESC;FMTTYPE=text/html:<strong><span style="font-size: 14px">Our Savior&#39\;s Annual Fall Dinner in Wymore:</span></strong><br />\n<br />\nBeing held Sunday from 11:30 a.m.-1:30 p.m. at the church\, 11th&nbsp\; and l streets in Wymore.<br />\n<br />\nThe meal includes chicken fried seak\, ham steak\, baked potato\, salad bar\, rolls and homeade desserts.<br />\n<br />\nCost is $7 for adults and $4 for children
LOCATION:
UID:e.41.2782
SEQUENCE:3
DTSTAMP:20260425T032341Z
URL:https://business.beatricechamber.com/events/details/our-savior-s-annual-fall-dinner-11-07-2010-2782
END:VEVENT

END:VCALENDAR
