BEGIN:VCALENDAR
VERSION:2.0
PRODID:-//ChamberMaster//Event Calendar 2.0//EN
METHOD:PUBLISH
X-PUBLISHED-TTL:P3D
REFRESH-INTERVAL:P3D
CALSCALE:GREGORIAN
BEGIN:VEVENT
DTSTART:20090926T180000Z
DTEND:20090926T200000Z
X-MICROSOFT-CDO-ALLDAYEVENT:FALSE
SUMMARY:Out of the Darkness Community Walk
DESCRIPTION:Walk to Prevent Suicide2009 Out of the Darkness Community Walk Chautauqua ParkSaturday\, September 26\, 2009Check In:  11 am - 1 pmWalk at 1:00 pm Presented with the help of American Foundation for Suicide PreventionContact:  Melissa Carlson1819 S 3rd Beatrice402-239-0787mlsnyder15@yahoo.com
X-ALT-DESC;FMTTYPE=text/html:<div>Walk to Prevent Suicide</div><div>2009 Out of the Darkness Community Walk</div><div>&nbsp\;</div><div>Chautauqua Park</div><div>Saturday\, September 26\, 2009</div><div>Check In:&nbsp\; 11 am - 1 pm</div><div>Walk at 1:00 pm</div><div>&nbsp\;</div><div>Presented with the help of American Foundation for Suicide Prevention</div><div>Contact:&nbsp\; Melissa Carlson</div><div>1819 S 3rd Beatrice</div><div>402-239-0787</div><div>mlsnyder15@yahoo.com</div>
LOCATION:
UID:e.41.1346
SEQUENCE:3
DTSTAMP:20260425T234154Z
URL:https://business.beatricechamber.com/events/details/out-of-the-darkness-community-walk-09-26-2009-1346
END:VEVENT

END:VCALENDAR
