BEGIN:VCALENDAR
VERSION:2.0
PRODID:-//ChamberMaster//Event Calendar 2.0//EN
METHOD:PUBLISH
X-PUBLISHED-TTL:P3D
REFRESH-INTERVAL:P3D
CALSCALE:GREGORIAN
BEGIN:VEVENT
DTSTART;VALUE=DATE:20110924
DTEND;VALUE=DATE:20110925
TRANSP:TRANSPARENT
X-MICROSOFT-CDO-ALLDAYEVENT:TRUE
SUMMARY:Out of the Darkness Community walk (Suicide Prevention)
DESCRIPTION:Out of the Darkness Community walk (Suicide Prevention)\n\nSaturday\, September 24 at 11:30am\n\nLocation: Chautauqua Park in Beatrice Nebraska\, Meet at the Tabernacle
X-ALT-DESC;FMTTYPE=text/html:<span style="font-size: 12pt"><span style="font-family: times new roman\, serif"><a href="http://www.facebook.com/event.php?eid=164764386931909"><strong><span style="text-decoration: none\; text-underline: none"><span style="color: #3b5998"><span style="font-family: times new roman">Out of the Darkness Community walk (Suicide Prevention)</span></span></span></strong></a></span><br />\n<span style="font-family: times new roman">Saturday\, September 24 at 11:30am<br />\nLocation: Chautauqua Park in Beatrice Nebraska\, Meet at the Tabernacle</span></span><br />\n
LOCATION:
UID:e.41.5058
SEQUENCE:3
DTSTAMP:20260424T123356Z
URL:https://business.beatricechamber.com/events/details/out-of-the-darkness-community-walk-suicide-prevention-09-24-2011-5058
END:VEVENT

END:VCALENDAR
