BEGIN:VCALENDAR
VERSION:2.0
PRODID:-//ChamberMaster//Event Calendar 2.0//EN
METHOD:PUBLISH
X-PUBLISHED-TTL:P3D
REFRESH-INTERVAL:P3D
CALSCALE:GREGORIAN
BEGIN:VEVENT
DTSTART:20091121T153000Z
DTEND:20091121T183000Z
X-MICROSOFT-CDO-ALLDAYEVENT:FALSE
SUMMARY:Pamida Hosts Medicare D Workshop
DESCRIPTION:Pamida and the University of Nebraska Medical Center College of Pharmacy are teaming up to provide a Medicare Part D workshop in Beatrice. The information session is scheduled from 9:30 am - 12:30 pm on Satruday November 21st at Pamida\, 123 N 24th St. The Rural Pharmacy Students Association will be available to enter individual's medication information into the plan finder program at medicare.gove.  They will also be able to provide a comparison of available plans in the area\, and explain the plan summaries\; premiums\, deductibles and co-pays.  Participants should bring a current list of their medications.  For more information\, contact Pamida Pharmacy at 223-2240.
X-ALT-DESC;FMTTYPE=text/html:<div>Pamida and the University of Nebraska Medical Center College of Pharmacy are teaming up to provide a Medicare Part D workshop in Beatrice.</div><div>&nbsp\;</div><div>The information session is scheduled from 9:30 am - 12:30 pm on Satruday November 21st at Pamida\, 123 N 24th St.</div><div>&nbsp\;</div><div>The Rural Pharmacy Students Association will be available to enter individual's medication information into the plan finder program at medicare.gove.&nbsp\; They will also be able to provide a comparison of available plans in the area\, and explain the plan summaries\; premiums\, deductibles and co-pays.&nbsp\;</div><div>&nbsp\;</div><div>Participants should bring a current list of their medications.&nbsp\;</div><div>&nbsp\;</div><div>For more information\, contact Pamida Pharmacy at 223-2240.</div>
LOCATION:
UID:e.41.1536
SEQUENCE:3
DTSTAMP:20260425T204701Z
URL:https://business.beatricechamber.com/events/details/pamida-hosts-medicare-d-workshop-11-21-2009-1536
END:VEVENT

END:VCALENDAR
