BEGIN:VCALENDAR
VERSION:2.0
PRODID:-//ChamberMaster//Event Calendar 2.0//EN
METHOD:PUBLISH
X-PUBLISHED-TTL:P3D
REFRESH-INTERVAL:P3D
CALSCALE:GREGORIAN
BEGIN:VEVENT
DTSTART:20110501T130000Z
DTEND:20110501T180000Z
X-MICROSOFT-CDO-ALLDAYEVENT:FALSE
SUMMARY:Pancake Breakfast
DESCRIPTION:Homestead Days  Fundraiser Breakfast\n\nProceeds will support Homestead Days activities and events\n\n\n\nSunday\, May 1\, 2011\n\n8 am - 1 pm\n\nAmerican Legion\n\n701 Dorsey St.\, Beatrice\n\nServing: scrambled eggs\, sausage\, pancakes\, fruit\, coffee\, water and juice \n\n \n\nTickets:\n\nAdults:   $5.00 in advance\n\n                $5.50 at the door\n\nKids 11 & Under:  $3.00\n\n\n\nServed by:  Beatrice Area Chamber of Commerce Board of Directors!
X-ALT-DESC;FMTTYPE=text/html:<span style="font-size: 16px"><span style="language: en-us"><span style="font-family: cooper black">Homestead Days</span></span><span style="language: en-us"><span style="font-family: cooper black"><sup>&reg\; </sup></span></span><span style="language: en-us"><span style="font-family: cooper black">Fundraiser Breakfast</span></span><br />\n<span style="font-size: 11px"><font face="Barbedor T Heavy"><span style="font-style: italic\; language: en-us">Proceeds will support Homestead Days</span><span style="font-style: italic\; language: en-us"><sup>&reg\;</sup></span><span style="font-style: italic\; language: en-us">activities and events</span></font></span></span><br />\n<br />\n<span style="font-size: 14px"><span style="font-weight: bold\; language: en-us"><span style="font-family: disney print">Sunday\, May 1\, 2011</span></span><br />\n<span style="font-weight: bold\; language: en-us"><span style="font-family: disney print">8 am - 1 pm</span></span><br />\n<span style="language: en-us"><span style="font-family: disney print">American Legion</span></span><br />\n<span style="language: en-us"><span style="font-family: disney print">701 Dorsey St.\, Beatrice<br />\n<span style="font-size: 12px"><span style="language: en-us"><span style="font-family: barbedor t heavy">Serving: scrambled eggs\, sausage\, pancakes\, fruit\, </span></span><span style="language: en-us"><span style="font-family: barbedor t heavy">coffee\, water and juice&nbsp\;</span></span><br />\n&nbsp\;</span><br />\n<span style="font-size: 12px"><span style="font-weight: bold\; text-decoration: underline\; language: en-us\; text-underline: single"><span style="font-family: barbedor t heavy">Tickets</span></span><span style="font-weight: bold\; language: en-us"><span style="font-family: barbedor t heavy">:</span></span><br />\n<span style="language: en-us"><span style="font-family: barbedor t heavy">Adults:&nbsp\;&nbsp\; $5.00 in advance</span></span><br />\n<span style="language: en-us"><span style="font-family: barbedor t heavy">&nbsp\;&nbsp\;&nbsp\;&nbsp\;&nbsp\;&nbsp\;&nbsp\;&nbsp\;&nbsp\;&nbsp\;&nbsp\;&nbsp\;&nbsp\;&nbsp\;&nbsp\; $5.50 at the door</span></span><br />\n<span style="language: en-us"><span style="font-family: barbedor t heavy">Kids 11 &amp\; Under:&nbsp\; $3.00<br />\n<br />\n<span style="font-size: 11px"><span style="font-weight: bold\; language: en-us"><span style="font-family: disney print">Served by:&nbsp\; Beatrice Area Chamber of Commerce&nbsp\;</span></span><span style="font-weight: bold\; language: en-us"><span style="font-family: disney print">Board of Directors</span></span><span style="font-weight: bold\; language: en-us"><span style="font-family: disney print">!</span></span></span><br />\n&nbsp\;</span></span><br />\n<br />\n<br />\n<span style="font-size: 11px">&nbsp\;&nbsp\;</span></span></span></span></span><br />\n
LOCATION:American Legion 701 Dorsey St.\, Beatrice
UID:e.41.4193
SEQUENCE:3
DTSTAMP:20260424T182150Z
URL:https://business.beatricechamber.com/events/details/pancake-breakfast-05-01-2011-4193
END:VEVENT

END:VCALENDAR
