BEGIN:VCALENDAR
VERSION:2.0
PRODID:-//ChamberMaster//Event Calendar 2.0//EN
METHOD:PUBLISH
X-PUBLISHED-TTL:P3D
REFRESH-INTERVAL:P3D
CALSCALE:GREGORIAN
BEGIN:VEVENT
DTSTART:20110213T150000Z
DTEND:20110213T190000Z
X-MICROSOFT-CDO-ALLDAYEVENT:FALSE
SUMMARY:Pancake Feed
DESCRIPTION:Pancake Feed\n\nAll proceeds to local CCFA chapter of Crohn's and Colitis.\n\n\n\nSunday\, February 13\n\n9 a.m. - 1 p.m.\n\n\n\nHosted by 12-year-old Jonathon Schleufer and his family.  For more information:  Julie Schleufer\, 223-8104
X-ALT-DESC;FMTTYPE=text/html:Pancake Feed<br />\nAll proceeds to local CCFA chapter of Crohn&#39\;s and Colitis.<br />\n<br />\nSunday\, February 13<br />\n9 a.m. - 1 p.m.<br />\n<br />\nHosted by 12-year-old Jonathon Schleufer and his family.&nbsp\; For more information:&nbsp\; Julie Schleufer\, 223-8104
LOCATION:
UID:e.41.4178
SEQUENCE:3
DTSTAMP:20260424T225314Z
URL:https://business.beatricechamber.com/events/details/pancake-feed-02-13-2011-4178
END:VEVENT

END:VCALENDAR
