BEGIN:VCALENDAR
VERSION:2.0
PRODID:-//ChamberMaster//Event Calendar 2.0//EN
METHOD:PUBLISH
X-PUBLISHED-TTL:P3D
REFRESH-INTERVAL:P3D
CALSCALE:GREGORIAN
BEGIN:VEVENT
DTSTART:20120317T130000Z
DTEND:20120317T170000Z
X-MICROSOFT-CDO-ALLDAYEVENT:FALSE
SUMMARY:Pancake Feed
DESCRIPTION:Pancake Feed \n\n	March 17\, 2012 8:00 AM- 12:00 PM\n\n	Open to the Public at the Fairgrounds\n\n	ADULT: $5.00\n\n	CHILDREN: $3.00\n\n	Pancakes\, eggs\, sausage\, coffee\, and orange drink\n\n	 Proceeds go towards Women for Racing\n\n	\n\n	THANK YOU FOR YOUR SUPPORT!!
X-ALT-DESC;FMTTYPE=text/html:<p style="text-align: center">\n	<strong><span style="font-size: 16px"><u>Pancake Feed </u></span></strong></p>\n<p style="text-align: center">\n	March 17\, 2012&nbsp\;8:00 AM- 12:00 PM</p>\n<p style="text-align: center">\n	Open to the Public at the Fairgrounds</p>\n<p style="text-align: center">\n	<strong>ADULT: $5.00</strong><br />\n	<strong>CHILDREN: $3.00</strong></p>\n<p style="text-align: center">\n	Pancakes\, eggs\, sausage\, coffee\, and orange drink</p>\n<p style="text-align: center">\n	&nbsp\;Proceeds go towards <em><strong>Women for Racing<br />\n	<br />\n	THANK YOU FOR YOUR SUPPORT!!</strong></em></p>\n
LOCATION:Gage County Fairgrounds
UID:e.41.5381
SEQUENCE:3
DTSTAMP:20260422T171726Z
URL:https://business.beatricechamber.com/events/details/pancake-feed-03-17-2012-5381
END:VEVENT

END:VCALENDAR
