BEGIN:VCALENDAR
VERSION:2.0
PRODID:-//ChamberMaster//Event Calendar 2.0//EN
METHOD:PUBLISH
X-PUBLISHED-TTL:P3D
REFRESH-INTERVAL:P3D
CALSCALE:GREGORIAN
BEGIN:VEVENT
DTSTART;VALUE=DATE:20101107
DTEND;VALUE=DATE:20101108
TRANSP:TRANSPARENT
X-MICROSOFT-CDO-ALLDAYEVENT:TRUE
SUMMARY:Pancake Feed
DESCRIPTION:Kiwanis Pancake Feed\n\n\nThe Homestead Early Risers Kiwanis Club is having their annual pancake feed\n\nSunday\, November 7 from 7:30-1pm\n\n\n\nThe 1st $1000 raised will benefit Mother To Mother Ministry (MTMM)! Please join us to help support the Kiwanis Club and MTMM!\n\n\n\nTickets are available at local banks and Burwood Books.
X-ALT-DESC;FMTTYPE=text/html:<h2 style="margin: 0in 0in 0pt">\n	<span style="font-family: 'maiandra gd'\; color: #984806\; font-size: 16pt">Kiwanis Pancake Feed<o:p></o:p></span></h2>\n<br />\n<span style="font-size: 14pt"><span style="font-family: trebuchet ms">The Homestead Early Risers Kiwanis Club is having their annual pancake feed<br />\nSunday\, November 7 from 7:30-1pm</span></span><br />\n<br />\n<span style="font-size: 14pt"><span style="font-family: trebuchet ms">The 1<sup>st</sup> $1000 raised will benefit Mother To Mother Ministry (MTMM)! Please join us to help support the Kiwanis Club and MTMM!<br />\n<br />\nTickets are available at local banks and Burwood Books.</span></span><br />\n
LOCATION:
UID:e.41.2701
SEQUENCE:3
DTSTAMP:20260425T032335Z
URL:https://business.beatricechamber.com/events/details/pancake-feed-11-07-2010-2701
END:VEVENT

END:VCALENDAR
