BEGIN:VCALENDAR
VERSION:2.0
PRODID:-//ChamberMaster//Event Calendar 2.0//EN
METHOD:PUBLISH
X-PUBLISHED-TTL:P3D
REFRESH-INTERVAL:P3D
CALSCALE:GREGORIAN
BEGIN:VEVENT
DTSTART;VALUE=DATE:20120226
DTEND;VALUE=DATE:20120227
TRANSP:TRANSPARENT
X-MICROSOFT-CDO-ALLDAYEVENT:TRUE
SUMMARY:Pancake Feed - Filley Volunteer Firemen
DESCRIPTION:The Filley Volunteer Firemen are hosting a pancake feed Sunday\, February 26 at the Sapp Fire Building in Filley.\n\n\n\nAll-you-can-eat pancakes\, eggs\, sausage\, and drink will be served from 11 am - 1 pm.\n\n\n\nProceeds will be used to purchase additional equipment for the fire department.
X-ALT-DESC;FMTTYPE=text/html:The Filley Volunteer Firemen are hosting a pancake feed Sunday\, February 26 at the Sapp Fire Building in Filley.<br />\n<br />\nAll-you-can-eat pancakes\, eggs\, sausage\, and drink will be served from 11 am - 1 pm.<br />\n<br />\nProceeds will be used to purchase additional equipment for the fire department.
LOCATION:
UID:e.41.5340
SEQUENCE:3
DTSTAMP:20260422T185540Z
URL:https://business.beatricechamber.com/events/details/pancake-feed-filley-volunteer-firemen-02-26-2012-5340
END:VEVENT

END:VCALENDAR
