BEGIN:VCALENDAR
VERSION:2.0
PRODID:-//ChamberMaster//Event Calendar 2.0//EN
METHOD:PUBLISH
X-PUBLISHED-TTL:P3D
REFRESH-INTERVAL:P3D
CALSCALE:GREGORIAN
BEGIN:VEVENT
DTSTART;VALUE=DATE:20120205
DTEND;VALUE=DATE:20120206
TRANSP:TRANSPARENT
X-MICROSOFT-CDO-ALLDAYEVENT:TRUE
SUMMARY:Pancake Feed: Homestead Early Risers Kiwanis Club
DESCRIPTION:Pancake Feed:  Homestead Early Risers Kiwanis Club\n\n\n\nSunday\, February 5\n\n7:30 am - 1 pm\n\n\n\nAmerican Legion Club\, 701 Dorsey Street\, Beatrice\n\n\n\nPancakes\, eggs\, sausage\, juice\, milk or coffee.  Tickets: $6 for adults\; $3 for children up to age 12\; free to children ages three and younger.  Discounted tickets at Beatrice area banks or from Boy Scouts in Troop 221.
X-ALT-DESC;FMTTYPE=text/html:Pancake Feed:&nbsp\; Homestead Early Risers Kiwanis Club<br />\n<br />\nSunday\, February 5<br />\n7:30 am - 1 pm<br />\n<br />\nAmerican Legion Club\, 701 Dorsey Street\, Beatrice<br />\n<br />\nPancakes\, eggs\, sausage\, juice\, milk or coffee.&nbsp\; Tickets: $6 for adults\; $3 for children up to age 12\; free to children ages three and younger.&nbsp\; Discounted tickets at Beatrice area banks or from Boy Scouts in Troop 221.
LOCATION:
UID:e.41.5295
SEQUENCE:3
DTSTAMP:20260422T185719Z
URL:https://business.beatricechamber.com/events/details/pancake-feed-homestead-early-risers-kiwanis-club-02-05-2012-5295
END:VEVENT

END:VCALENDAR
