BEGIN:VCALENDAR
VERSION:2.0
PRODID:-//ChamberMaster//Event Calendar 2.0//EN
METHOD:PUBLISH
X-PUBLISHED-TTL:P3D
REFRESH-INTERVAL:P3D
CALSCALE:GREGORIAN
BEGIN:VEVENT
DTSTART:20110206T133000Z
DTEND:20110206T190000Z
X-MICROSOFT-CDO-ALLDAYEVENT:FALSE
SUMMARY:Pancake Feed Homestead Early Risers Kiwanis Club
DESCRIPTION:Homestead Early Risers Kiwanis Club\n\nPancake Feed\n\n\n\nSunday\, February 6\n\n7:30 a.m. - 1 p.m.\n\n\n\nAmerican Legion Club\, 701 Dorsey St.\, Beatrice\n\n\n\nPancakes\, eggs\, sausage\n\n$6 for adults\; $3 for children (up to age 12)\; free to children ages three & younger.  Discounted tickets at area banks or from Boy Scouts in Troop 221.
X-ALT-DESC;FMTTYPE=text/html:Homestead Early Risers Kiwanis Club<br />\nPancake Feed<br />\n<br />\nSunday\, February 6<br />\n7:30 a.m. - 1 p.m.<br />\n<br />\nAmerican Legion Club\, 701 Dorsey St.\, Beatrice<br />\n<br />\nPancakes\, eggs\, sausage<br />\n$6 for adults\; $3 for children (up to age 12)\; free to children ages three &amp\; younger.&nbsp\; Discounted tickets at area banks or from Boy Scouts in Troop 221.
LOCATION:
UID:e.41.3293
SEQUENCE:3
DTSTAMP:20260424T225916Z
URL:https://business.beatricechamber.com/events/details/pancake-feed-homestead-early-risers-kiwanis-club-02-06-2011-3293
END:VEVENT

END:VCALENDAR
