BEGIN:VCALENDAR
VERSION:2.0
PRODID:-//ChamberMaster//Event Calendar 2.0//EN
METHOD:PUBLISH
X-PUBLISHED-TTL:P3D
REFRESH-INTERVAL:P3D
CALSCALE:GREGORIAN
BEGIN:VEVENT
DTSTART;VALUE=DATE:20111106
DTEND;VALUE=DATE:20111107
TRANSP:TRANSPARENT
X-MICROSOFT-CDO-ALLDAYEVENT:TRUE
SUMMARY:Pancake Feed - Homestead Early Risers Kiwanis Club
DESCRIPTION:Homestead Early Risers Kiwanis Club\n\n	Annual Pancake Feed\n\n	\n\n	Sunday\, November 6\n\n	7:30 am - 1 pm\n\n	\n\n	American Legion Club\n\n	701 Dorsey Street\, Beatrice\n\n	\n\n	Serving Pancakes\, eggs\, sausage\, juice\, milk\, coffee.  Tickets are $6 for adults\; $3 for children up to age 12\; free to children ages three and younger.
X-ALT-DESC;FMTTYPE=text/html:<p>\n	Homestead Early Risers Kiwanis Club<br />\n	Annual Pancake Feed<br />\n	<br />\n	Sunday\, November 6<br />\n	7:30 am - 1 pm<br />\n	<br />\n	American Legion Club<br />\n	701 Dorsey Street\, Beatrice<br />\n	<br />\n	Serving Pancakes\, eggs\, sausage\, juice\, milk\, coffee.&nbsp\; Tickets are $6 for adults\; $3 for children up to age 12\; free to children ages three and younger.</p>\n
LOCATION:
UID:e.41.5219
SEQUENCE:3
DTSTAMP:20260424T100130Z
URL:https://business.beatricechamber.com/events/details/pancake-feed-homestead-early-risers-kiwanis-club-11-06-2011-5219
END:VEVENT

END:VCALENDAR
