BEGIN:VCALENDAR
VERSION:2.0
PRODID:-//ChamberMaster//Event Calendar 2.0//EN
METHOD:PUBLISH
X-PUBLISHED-TTL:P3D
REFRESH-INTERVAL:P3D
CALSCALE:GREGORIAN
BEGIN:VEVENT
DTSTART:20110306T230000Z
DTEND:20110307T013000Z
X-MICROSOFT-CDO-ALLDAYEVENT:FALSE
SUMMARY:Pancake Supper - Immanuel
DESCRIPTION:Immanuel Pancake Supper: 5 - 7:30 p.m.\n\n\n\nImmanuel Lutheran Church\, rural Wymore.\n\n\n\nHosted by Stateline Brotherhood.
X-ALT-DESC;FMTTYPE=text/html:Immanuel Pancake Supper: 5 - 7:30 p.m.<br />\n<br />\nImmanuel Lutheran Church\, rural Wymore.<br />\n<br />\nHosted by Stateline Brotherhood.
LOCATION:
UID:e.41.4206
SEQUENCE:3
DTSTAMP:20260424T211524Z
URL:https://business.beatricechamber.com/events/details/pancake-supper-immanuel-03-06-2011-4206
END:VEVENT

END:VCALENDAR
