BEGIN:VCALENDAR
VERSION:2.0
PRODID:-//ChamberMaster//Event Calendar 2.0//EN
METHOD:PUBLISH
X-PUBLISHED-TTL:P3D
REFRESH-INTERVAL:P3D
CALSCALE:GREGORIAN
BEGIN:VEVENT
DTSTART:20100305T010000Z
DTEND:20100305T040000Z
X-MICROSOFT-CDO-ALLDAYEVENT:FALSE
SUMMARY:''Pandemic Flu Planning''
DESCRIPTION:"Pandemic Flu Planning"Workshop offered by The Emergency Medical Services Program of the Nebraska Department of Health & Human Services Thursday\, March 4\, 20107 p.m. - 10 p.m.Beatrice Community Hospital and Health Center Open to Public Health Responders\, Health Care Providers and the general public. The workshop is worth three continuing education credits.  For more information\, contact Doug Fuller\, Southeast Nebraska Emergency Medical Specialist\, at 800-422-3460\, ext. 25
X-ALT-DESC;FMTTYPE=text/html:<div>&quot\;Pandemic Flu Planning&quot\;</div><div>Workshop&nbsp\;offered by The Emergency Medical Services Program of the Nebraska Department of Health &amp\; Human Services</div><div>&nbsp\;</div><div>Thursday\, March 4\, 2010</div><div>7 p.m. - 10 p.m.</div><div>Beatrice Community Hospital and Health Center</div><div>&nbsp\;</div><div>Open to Public&nbsp\;Health Responders\, Health Care Providers and the general public.</div><div>&nbsp\;</div><div>The workshop is worth three continuing education credits.&nbsp\; For more information\, contact Doug Fuller\, Southeast Nebraska Emergency Medical Specialist\, at 800-422-3460\, ext. 25</div>
LOCATION:
UID:e.41.1661
SEQUENCE:3
DTSTAMP:20260425T152942Z
URL:https://business.beatricechamber.com/events/details/pandemic-flu-planning-03-04-2010-1661
END:VEVENT

END:VCALENDAR
