BEGIN:VCALENDAR
VERSION:2.0
PRODID:-//ChamberMaster//Event Calendar 2.0//EN
METHOD:PUBLISH
X-PUBLISHED-TTL:P3D
REFRESH-INTERVAL:P3D
CALSCALE:GREGORIAN
BEGIN:VEVENT
DTSTART;VALUE=DATE:20120314
DTEND;VALUE=DATE:20120315
TRANSP:TRANSPARENT
X-MICROSOFT-CDO-ALLDAYEVENT:TRUE
SUMMARY:Parade Floats 101
DESCRIPTION:Parade Floats 101\n\n\n\nat Beatrice City Auditorium Conference Room\, 205 N 4th Street\n\n\n\nTwo Opportunities to Learn How to Make Your Homestead Days Parade Float!\n\n*Where to Get Supplies\n\n*Creating a Design\n\n*Techniques\n\n*NO REGISTRATION FEE!\n\n*Space Is Limited - Call to Reserve Your Spot!\n\n\n\nMARCH 14\, Noon - 1pm\n\nOR\n\nMARCH 20\, 5 - 6 pm\n\n\n\nBeatrice Area Chamber of Commerce - 402-223-2338
X-ALT-DESC;FMTTYPE=text/html:Parade Floats 101<br />\n<br />\nat Beatrice City Auditorium Conference Room\, 205 N 4th Street<br />\n<br />\nTwo Opportunities to Learn How to Make Your Homestead Days Parade Float!<br />\n*Where to Get Supplies<br />\n*Creating a Design<br />\n*Techniques<br />\n*NO REGISTRATION FEE!<br />\n*Space Is Limited - Call to Reserve Your Spot!<br />\n<br />\nMARCH 14\, Noon - 1pm<br />\nOR<br />\nMARCH 20\, 5&nbsp\;- 6 pm<br />\n<br />\nBeatrice Area Chamber of Commerce - 402-223-2338
LOCATION:
UID:e.41.5362
SEQUENCE:3
DTSTAMP:20260422T171904Z
URL:https://business.beatricechamber.com/events/details/parade-floats-101-03-14-2012-5362
END:VEVENT

END:VCALENDAR
