BEGIN:VCALENDAR
VERSION:2.0
PRODID:-//ChamberMaster//Event Calendar 2.0//EN
METHOD:PUBLISH
X-PUBLISHED-TTL:P3D
REFRESH-INTERVAL:P3D
CALSCALE:GREGORIAN
BEGIN:VEVENT
DTSTART:20101202T230000Z
DTEND:20101202T230000Z
X-MICROSOFT-CDO-ALLDAYEVENT:FALSE
SUMMARY:Parents for Another Choice potato bake
DESCRIPTION:Parents for Another Choice potato bake:\n\n\n\n5 p.m.\, in conjunction with Southern/Palmyra basketball game at Wymore Southern High School.\n\n\n\nBaked potato with toppings\; homemade dessert and drinks. Proceeds to post prom activities.
X-ALT-DESC;FMTTYPE=text/html:<strong><span style="font-size: 14px\;">Parents for Another Choice potato bake:</span></strong><br />\n<br />\n5 p.m.\, in conjunction with Southern/Palmyra basketball game at Wymore Southern High School.<br />\n<br />\nBaked potato with toppings\; homemade dessert and drinks. Proceeds to post prom activities.<br />\n
LOCATION:
UID:e.41.2868
SEQUENCE:3
DTSTAMP:20260425T015019Z
URL:https://business.beatricechamber.com/events/details/parents-for-another-choice-potato-bake-12-02-2010-2868
END:VEVENT

END:VCALENDAR
