BEGIN:VCALENDAR
VERSION:2.0
PRODID:-//ChamberMaster//Event Calendar 2.0//EN
METHOD:PUBLISH
X-PUBLISHED-TTL:P3D
REFRESH-INTERVAL:P3D
CALSCALE:GREGORIAN
BEGIN:VEVENT
DTSTART:20091026T020000Z
DTEND:20091025T200000Z
X-MICROSOFT-CDO-ALLDAYEVENT:FALSE
SUMMARY:Patch N' Powder Fundraiser
DESCRIPTION:The Patch N' Powder Gang will be sponsoring a sporting clays fundraiser shoot on Sunday\, October 25th.  The shoot will be held from 9:00 am - 3:00 pm.  The cost for adults will be $15 for the first round and $12 for the second round.For kids 11 and under\, the cost is $8 for all rounds. For more information\, contact Lloyd Warren at 228-1391
X-ALT-DESC;FMTTYPE=text/html:<div>The Patch N' Powder Gang will be sponsoring a sporting clays fundraiser shoot on Sunday\, October 25th.&nbsp\; The shoot will be held from 9:00 am - 3:00 pm.&nbsp\;</div><div>&nbsp\;</div><div>The cost for adults will be $15 for the first round and $12 for the second round.</div><div>For kids 11 and under\, the cost is $8 for all rounds.</div><div>&nbsp\;</div><div>For more information\, contact Lloyd Warren at 228-1391</div>
LOCATION:
UID:e.41.1483
SEQUENCE:3
DTSTAMP:20260425T220703Z
URL:https://business.beatricechamber.com/events/details/patch-n-powder-fundraiser-10-25-2009-1483
END:VEVENT

END:VCALENDAR
