BEGIN:VCALENDAR
VERSION:2.0
PRODID:-//ChamberMaster//Event Calendar 2.0//EN
METHOD:PUBLISH
X-PUBLISHED-TTL:P3D
REFRESH-INTERVAL:P3D
CALSCALE:GREGORIAN
BEGIN:VEVENT
DTSTART:20120527T140000Z
DTEND:20120527T200000Z
X-MICROSOFT-CDO-ALLDAYEVENT:FALSE
SUMMARY:Patch N' Powder Gang Sporting Clays
DESCRIPTION:Patch N' Powder Gang Range\, north of Beatrice on Hwy 77 to Hackberry Road\, turn west (left) on Hackberry\, go 4 miles\, turn north 1/2 mile\, on east side of the road - follow the signs. Cost: $15 first round\, $12 second round. Public invited to join in the fun.\n\n\n\nQuestions? Contact Lloyd Warren at 402-228-1391 or 402-239-4783 or Judy Warren at 402-239-4784.
X-ALT-DESC;FMTTYPE=text/html:Patch&nbsp\;N&#39\; Powder&nbsp\;Gang Range\,&nbsp\;north of Beatrice&nbsp\;on Hwy&nbsp\;77 to&nbsp\;Hackberry Road\, turn west&nbsp\;(left) on Hackberry\, go 4&nbsp\;miles\, turn&nbsp\;north 1/2 mile\, on east side of the&nbsp\;road - follow&nbsp\;the signs. Cost:&nbsp\;$15 first round\, $12 second&nbsp\;round.&nbsp\;Public invited to join in the fun.<br />\n<br />\nQuestions? Contact&nbsp\;Lloyd Warren&nbsp\;at 402-228-1391 or 402-239-4783 or Judy Warren&nbsp\;at 402-239-4784.
LOCATION:
UID:e.41.5714
SEQUENCE:3
DTSTAMP:20260422T142720Z
URL:https://business.beatricechamber.com/events/details/patch-n-powder-gang-sporting-clays-05-27-2012-5714
END:VEVENT

END:VCALENDAR
