BEGIN:VCALENDAR
VERSION:2.0
PRODID:-//ChamberMaster//Event Calendar 2.0//EN
METHOD:PUBLISH
X-PUBLISHED-TTL:P3D
REFRESH-INTERVAL:P3D
CALSCALE:GREGORIAN
BEGIN:VEVENT
DTSTART:20100523T140000Z
DTEND:20100523T200000Z
X-MICROSOFT-CDO-ALLDAYEVENT:FALSE
SUMMARY:Patch 'N Powder Gang Sporting Clays 2010 Fundraiser
DESCRIPTION:Patch 'N Powder Gange Sporting Clays 2010 Fundraiser Sunday\, May 239 a.m. - 3 p.m. Patch N' Powder Gang Range\, north of Beatrice on Hwy 77 to Hackberry Road\, turn west on Hackberry\, go 4 miles\, turn north 1/2 mile\, on east side of the road - follow the signs. Cost:  $8 kids 11 & under\; $15 first adult\, each additional adult $12.  Public invited to join in the fun.
X-ALT-DESC;FMTTYPE=text/html:<div><span style="font-size: medium">Patch 'N Powder Gange Sporting Clays 2010 Fundraiser</span></div><div>&nbsp\;</div><div><span style="font-size: small">Sunday\, May 23</span></div><div><span style="font-size: small">9 a.m. - 3 p.m.</span></div><div>&nbsp\;</div><div><span style="font-size: x-small">Patch N' Powder Gang Range\, north of Beatrice on Hwy 77 to Hackberry Road\, turn west on Hackberry\, go 4 miles\, turn north 1/2 mile\, on east side of the road - follow the signs.</span></div><div>&nbsp\;</div><div><span style="font-size: x-small">Cost:&nbsp\; $8 kids 11 &amp\;&nbsp\;under\; $15 first adult\, each additional adult $12.&nbsp\; Public invited to join in the fun.</span></div>
LOCATION:
UID:e.41.1997
SEQUENCE:3
DTSTAMP:20260425T122829Z
URL:https://business.beatricechamber.com/events/details/patch-n-powder-gang-sporting-clays-2010-fundraiser-05-23-2010-1997
END:VEVENT

END:VCALENDAR
