BEGIN:VCALENDAR
VERSION:2.0
PRODID:-//ChamberMaster//Event Calendar 2.0//EN
METHOD:PUBLISH
X-PUBLISHED-TTL:P3D
REFRESH-INTERVAL:P3D
CALSCALE:GREGORIAN
BEGIN:VEVENT
DTSTART:20100627T140000Z
DTEND:20100627T200000Z
X-MICROSOFT-CDO-ALLDAYEVENT:FALSE
SUMMARY:Patch N' Powder Gang Sporting Clays 2010 Fundraiser
DESCRIPTION:June 27\, 2010 From 9 a.m. to 3 p.m. Patch N' Powder Gang Range\, north of Beatrice on Hwy 77 to Hackberry Road\, turn west (left) on Hackberry\, go 4 miles\, turn north 1/2 mile\, on east side of the road - follow the signs. Cost: $8 kids 11 years & under\; $15 first adult\, each additional adult $12. Public invited to join in the fun.
X-ALT-DESC;FMTTYPE=text/html:<div>June 27\, 2010</div><div>&nbsp\;</div><div>From 9 a.m. to 3 p.m. Patch N' Powder Gang Range\, north of Beatrice on Hwy 77 to Hackberry Road\, turn west (left) on Hackberry\, go 4 miles\, turn north 1/2 mile\, on east side of the road - follow the signs. Cost: $8 kids 11 years &amp\; under\; $15 first adult\, each additional adult $12. Public invited to join in the fun.</div>
LOCATION:
UID:e.41.2036
SEQUENCE:3
DTSTAMP:20260425T105621Z
URL:https://business.beatricechamber.com/events/details/patch-n-powder-gang-sporting-clays-2010-fundraiser-06-27-2010-2036
END:VEVENT

END:VCALENDAR
